BEGIN:VCALENDAR
VERSION:2.0
PRODID:-//Marion SWCD - ECPv6.15.20//NONSGML v1.0//EN
CALSCALE:GREGORIAN
METHOD:PUBLISH
X-ORIGINAL-URL:https://www.marionswcd.net
X-WR-CALDESC:Events for Marion SWCD
REFRESH-INTERVAL;VALUE=DURATION:PT1H
X-Robots-Tag:noindex
X-PUBLISHED-TTL:PT1H
BEGIN:VTIMEZONE
TZID:America/Los_Angeles
BEGIN:DAYLIGHT
TZOFFSETFROM:-0800
TZOFFSETTO:-0700
TZNAME:PDT
DTSTART:20220313T100000
END:DAYLIGHT
BEGIN:STANDARD
TZOFFSETFROM:-0700
TZOFFSETTO:-0800
TZNAME:PST
DTSTART:20221106T090000
END:STANDARD
BEGIN:DAYLIGHT
TZOFFSETFROM:-0800
TZOFFSETTO:-0700
TZNAME:PDT
DTSTART:20230312T100000
END:DAYLIGHT
BEGIN:STANDARD
TZOFFSETFROM:-0700
TZOFFSETTO:-0800
TZNAME:PST
DTSTART:20231105T090000
END:STANDARD
BEGIN:DAYLIGHT
TZOFFSETFROM:-0800
TZOFFSETTO:-0700
TZNAME:PDT
DTSTART:20240310T100000
END:DAYLIGHT
BEGIN:STANDARD
TZOFFSETFROM:-0700
TZOFFSETTO:-0800
TZNAME:PST
DTSTART:20241103T090000
END:STANDARD
END:VTIMEZONE
BEGIN:VEVENT
DTSTART;TZID=America/Los_Angeles:20230628T150000
DTEND;TZID=America/Los_Angeles:20230628T180000
DTSTAMP:20260424T063651
CREATED:20230615T192724Z
LAST-MODIFIED:20230615T192746Z
UID:10001400-1687964400-1687975200@www.marionswcd.net
SUMMARY:Stayton Farmers Market
DESCRIPTION:Stop by the Stayton Farmers Market today and say hello to representatives from Marion Soil and Water Conservation District and North Santiam Watershed Council! \n\n\nThe Stayton Farmers Market is from 3-6 pm every Wednesday from June 21-Aug 23 at the corner of Third Ave and Florence in downtown Stayton.
URL:https://www.marionswcd.net/event/stayton-farmers-market/
LOCATION:300 E Florence St\, Stayton\, OR\, United States\, Oregon\, 300 E Florence St\,\, Stayton\, OR\, 97383\, United States
CATEGORIES:Outreach
ATTACH;FMTTYPE=image/jpeg:https://www.marionswcd.net/wp-content/uploads/2023/06/stayton-farmers-market.jpg
ORGANIZER;CN="Historic Downtown Stayton":MAILTO:farmersmarket@downtownstayton.org downtownstayton.org
END:VEVENT
END:VCALENDAR