BEGIN:VCALENDAR
VERSION:2.0
PRODID:-//Marion SWCD - ECPv6.15.20//NONSGML v1.0//EN
CALSCALE:GREGORIAN
METHOD:PUBLISH
X-WR-CALNAME:Marion SWCD
X-ORIGINAL-URL:https://www.marionswcd.net
X-WR-CALDESC:Events for Marion SWCD
REFRESH-INTERVAL;VALUE=DURATION:PT1H
X-Robots-Tag:noindex
X-PUBLISHED-TTL:PT1H
BEGIN:VTIMEZONE
TZID:America/Los_Angeles
BEGIN:DAYLIGHT
TZOFFSETFROM:-0800
TZOFFSETTO:-0700
TZNAME:PDT
DTSTART:20220313T100000
END:DAYLIGHT
BEGIN:STANDARD
TZOFFSETFROM:-0700
TZOFFSETTO:-0800
TZNAME:PST
DTSTART:20221106T090000
END:STANDARD
BEGIN:DAYLIGHT
TZOFFSETFROM:-0800
TZOFFSETTO:-0700
TZNAME:PDT
DTSTART:20230312T100000
END:DAYLIGHT
BEGIN:STANDARD
TZOFFSETFROM:-0700
TZOFFSETTO:-0800
TZNAME:PST
DTSTART:20231105T090000
END:STANDARD
BEGIN:DAYLIGHT
TZOFFSETFROM:-0800
TZOFFSETTO:-0700
TZNAME:PDT
DTSTART:20240310T100000
END:DAYLIGHT
BEGIN:STANDARD
TZOFFSETFROM:-0700
TZOFFSETTO:-0800
TZNAME:PST
DTSTART:20241103T090000
END:STANDARD
BEGIN:DAYLIGHT
TZOFFSETFROM:-0800
TZOFFSETTO:-0700
TZNAME:PDT
DTSTART:20250309T100000
END:DAYLIGHT
BEGIN:STANDARD
TZOFFSETFROM:-0700
TZOFFSETTO:-0800
TZNAME:PST
DTSTART:20251102T090000
END:STANDARD
END:VTIMEZONE
BEGIN:VEVENT
DTSTART;TZID=America/Los_Angeles:20240426T100000
DTEND;TZID=America/Los_Angeles:20240426T180000
DTSTAMP:20260423T040704
CREATED:20240401T220043Z
LAST-MODIFIED:20240402T213708Z
UID:10001527-1714125600-1714154400@www.marionswcd.net
SUMMARY:Mission St Parks Conservancy Spring Plant Sale
DESCRIPTION:Visit with Marion SWCD about native and invasive plants! \nMission Street Parks Conservancy’s annual spring plant sale supports Bush’s Pasture Park. Free parking. \nThe plant sale will be held at the foot of the Soapbox Derby Track from 10 AM to 6 PM on Friday and from 9 AM to 3 PM on Saturday. \nPlants include vegetable starts\, herbs\, native plants\, and more. Marion SWCD will be present all day Friday\, April 26 with info about native and invasive plants.
URL:https://www.marionswcd.net/event/mission-st-parks-conservancy-spring-plant-sale/2024-04-26/
CATEGORIES:Outreach
ORGANIZER;CN="Mission Street Parks Conservancy":MAILTO:Info@MissionStreetParks.Org
END:VEVENT
BEGIN:VEVENT
DTSTART;TZID=America/Los_Angeles:20240427T090000
DTEND;TZID=America/Los_Angeles:20240427T150000
DTSTAMP:20260423T040704
CREATED:20240401T220043Z
LAST-MODIFIED:20240402T213708Z
UID:10001528-1714208400-1714230000@www.marionswcd.net
SUMMARY:Mission St Parks Conservancy Spring Plant Sale
DESCRIPTION:Visit with Marion SWCD about native and invasive plants! \nMission Street Parks Conservancy’s annual spring plant sale supports Bush’s Pasture Park. Free parking. \nThe plant sale will be held at the foot of the Soapbox Derby Track from 10 AM to 6 PM on Friday and from 9 AM to 3 PM on Saturday. \nPlants include vegetable starts\, herbs\, native plants\, and more. Marion SWCD will be present all day Friday\, April 26 with info about native and invasive plants.
URL:https://www.marionswcd.net/event/mission-st-parks-conservancy-spring-plant-sale/2024-04-27/
CATEGORIES:Outreach
ORGANIZER;CN="Mission Street Parks Conservancy":MAILTO:Info@MissionStreetParks.Org
END:VEVENT
BEGIN:VEVENT
DTSTART;TZID=America/Los_Angeles:20230721T100000
DTEND;TZID=America/Los_Angeles:20230721T190000
DTSTAMP:20260423T040704
CREATED:20230706T211024Z
LAST-MODIFIED:20230706T211627Z
UID:10001406-1689933600-1689966000@www.marionswcd.net
SUMMARY:Summer Plant Sale
DESCRIPTION:Mission Street Parks Conservancy is once again holding the annual Summer Plant Sale in conjunction with the Salem Art Fair at Bush’s Pasture Park!\n• Friday\, July 21: 10am – 7pm – Marion SWCD will be present on Friday with native and invasive plant info\, examples\, and resources!\n• Saturday\, July 22: 10am – 7pm\n• Sunday\, July 23: 10am – 3pm\nLocated next to the Art Barn at Bush’s Pasture Park\, 600 Mission St SE\, Salem\, OR 97302\n\nFEATURING: Annuals & Perennials • Succulents • Herbs • Pollinator Plants\nFREE and easy access on foot from the neighborhood at the north end of the park\nNO entrance fee to attend the plant sale\nEASY pick up of purchased plants by car\nPROCEEDS benefit Bush’s Pasture Park\, its maintenance and beautification\n\nThe plant sale is located in the shade of huge trees near Bush House Museum\, providing a respite from the usual blazing heat of mid-summer. You will find unusual plants offered by local specialty nurseries. MasterCard and Visa are accepted. Come check it out!
URL:https://www.marionswcd.net/event/summer-plant-sale/
LOCATION:Bush’s Pasture Park\, 890 Mission St SE\, Salem\, Oregon\, 97302\, United States
CATEGORIES:Outreach
ATTACH;FMTTYPE=image/jpeg:https://www.marionswcd.net/wp-content/uploads/2023/07/July-2022-Plant-Sale-crowd-photo-870x489-1.jpg
ORGANIZER;CN="Mission Street Parks Conservancy":MAILTO:Info@MissionStreetParks.Org
END:VEVENT
BEGIN:VEVENT
DTSTART;TZID=America/Los_Angeles:20230428T100000
DTEND;TZID=America/Los_Angeles:20230428T180000
DTSTAMP:20260423T040704
CREATED:20230421T174132Z
LAST-MODIFIED:20230421T174653Z
UID:10001387-1682676000-1682704800@www.marionswcd.net
SUMMARY:Mission Street Parks Conservancy Plant Sale
DESCRIPTION:Mission Street Parks Conservancy’s annual spring plant sale supports Bush’s Pasture Park. Free parking. \nThe plant sale will be held at the foot of the Soapbox Derby Track from 10 AM to 6 PM on Friday and from 9 AM to 3 PM on Saturday. \nPlants include vegetable starts\, herbs\, native plants\, and more. Marion SWCD will be present all day Friday\, April 28 with info about native and invasive plants.
URL:https://www.marionswcd.net/event/mission-street-plant-sale/
LOCATION:Bush’s Pasture Park\, 890 Mission St SE\, Salem\, Oregon\, 97302\, United States
CATEGORIES:Outreach
ORGANIZER;CN="Mission Street Parks Conservancy":MAILTO:Info@MissionStreetParks.Org
END:VEVENT
END:VCALENDAR