BEGIN:VCALENDAR
VERSION:2.0
PRODID:-//Marion SWCD - ECPv6.15.20//NONSGML v1.0//EN
CALSCALE:GREGORIAN
METHOD:PUBLISH
X-WR-CALNAME:Marion SWCD
X-ORIGINAL-URL:https://www.marionswcd.net
X-WR-CALDESC:Events for Marion SWCD
REFRESH-INTERVAL;VALUE=DURATION:PT1H
X-Robots-Tag:noindex
X-PUBLISHED-TTL:PT1H
BEGIN:VTIMEZONE
TZID:America/Los_Angeles
BEGIN:DAYLIGHT
TZOFFSETFROM:-0800
TZOFFSETTO:-0700
TZNAME:PDT
DTSTART:20210314T100000
END:DAYLIGHT
BEGIN:STANDARD
TZOFFSETFROM:-0700
TZOFFSETTO:-0800
TZNAME:PST
DTSTART:20211107T090000
END:STANDARD
BEGIN:DAYLIGHT
TZOFFSETFROM:-0800
TZOFFSETTO:-0700
TZNAME:PDT
DTSTART:20220313T100000
END:DAYLIGHT
BEGIN:STANDARD
TZOFFSETFROM:-0700
TZOFFSETTO:-0800
TZNAME:PST
DTSTART:20221106T090000
END:STANDARD
BEGIN:DAYLIGHT
TZOFFSETFROM:-0800
TZOFFSETTO:-0700
TZNAME:PDT
DTSTART:20230312T100000
END:DAYLIGHT
BEGIN:STANDARD
TZOFFSETFROM:-0700
TZOFFSETTO:-0800
TZNAME:PST
DTSTART:20231105T090000
END:STANDARD
END:VTIMEZONE
BEGIN:VEVENT
DTSTART;TZID=America/Los_Angeles:20220504T183000
DTEND;TZID=America/Los_Angeles:20220504T210000
DTSTAMP:20260421T044342
CREATED:20220329T173155Z
LAST-MODIFIED:20220329T173155Z
UID:10000878-1651689000-1651698000@www.marionswcd.net
SUMMARY:May Board Meeting
DESCRIPTION:May Board Agenda
URL:https://www.marionswcd.net/event/may-board-meeting-2/
LOCATION:Hybrid
CATEGORIES:Board Meetings
END:VEVENT
BEGIN:VEVENT
DTSTART;TZID=America/Los_Angeles:20220504T183000
DTEND;TZID=America/Los_Angeles:20220504T210000
DTSTAMP:20260421T044342
CREATED:20220329T173155Z
LAST-MODIFIED:20220503T202855Z
UID:10000793-1651689000-1651698000@www.marionswcd.net
SUMMARY:May Board Meeting
DESCRIPTION:May Board Agenda
URL:https://www.marionswcd.net/event/may-board-meeting/
LOCATION:Hybrid
CATEGORIES:Board Meetings
END:VEVENT
BEGIN:VEVENT
DTSTART;TZID=America/Los_Angeles:20220608T183000
DTEND;TZID=America/Los_Angeles:20220608T210000
DTSTAMP:20260421T044342
CREATED:20220329T170223Z
LAST-MODIFIED:20220602T154906Z
UID:10000792-1654713000-1654722000@www.marionswcd.net
SUMMARY:June Board Meeting
DESCRIPTION:DRAFT MSWCD June BM AgendaDownload
URL:https://www.marionswcd.net/event/june-board-meeting/
LOCATION:Hybrid
CATEGORIES:Board Meetings
END:VEVENT
BEGIN:VEVENT
DTSTART;TZID=America/Los_Angeles:20220608T183000
DTEND;TZID=America/Los_Angeles:20220608T210000
DTSTAMP:20260421T044342
CREATED:20220329T170223Z
LAST-MODIFIED:20220329T170223Z
UID:10000877-1654713000-1654722000@www.marionswcd.net
SUMMARY:June Board Meeting
DESCRIPTION:DRAFT MSWCD June BM AgendaDownload
URL:https://www.marionswcd.net/event/june-board-meeting-2/
LOCATION:Hybrid
CATEGORIES:Board Meetings
END:VEVENT
END:VCALENDAR