BEGIN:VCALENDAR
VERSION:2.0
PRODID:-//Marion SWCD - ECPv6.15.20//NONSGML v1.0//EN
CALSCALE:GREGORIAN
METHOD:PUBLISH
X-WR-CALNAME:Marion SWCD
X-ORIGINAL-URL:https://www.marionswcd.net
X-WR-CALDESC:Events for Marion SWCD
REFRESH-INTERVAL;VALUE=DURATION:PT1H
X-Robots-Tag:noindex
X-PUBLISHED-TTL:PT1H
BEGIN:VTIMEZONE
TZID:America/Los_Angeles
BEGIN:DAYLIGHT
TZOFFSETFROM:-0800
TZOFFSETTO:-0700
TZNAME:PDT
DTSTART:20250309T100000
END:DAYLIGHT
BEGIN:STANDARD
TZOFFSETFROM:-0700
TZOFFSETTO:-0800
TZNAME:PST
DTSTART:20251102T090000
END:STANDARD
BEGIN:DAYLIGHT
TZOFFSETFROM:-0800
TZOFFSETTO:-0700
TZNAME:PDT
DTSTART:20260308T100000
END:DAYLIGHT
BEGIN:STANDARD
TZOFFSETFROM:-0700
TZOFFSETTO:-0800
TZNAME:PST
DTSTART:20261101T090000
END:STANDARD
BEGIN:DAYLIGHT
TZOFFSETFROM:-0800
TZOFFSETTO:-0700
TZNAME:PDT
DTSTART:20270314T100000
END:DAYLIGHT
BEGIN:STANDARD
TZOFFSETFROM:-0700
TZOFFSETTO:-0800
TZNAME:PST
DTSTART:20271107T090000
END:STANDARD
END:VTIMEZONE
BEGIN:VEVENT
DTSTART;TZID=America/Los_Angeles:20260617T100000
DTEND;TZID=America/Los_Angeles:20260617T140000
DTSTAMP:20260422T042722
CREATED:20260309T224631Z
LAST-MODIFIED:20260309T231724Z
UID:10002575-1781690400-1781704800@www.marionswcd.net
SUMMARY:Public Works Day
DESCRIPTION:Join Marion Soil and Water Conservation District staff Wednesday June 17th to celebrate Keizer’s Public Works Department and partner organizations. Enjoy free activities\, snacks\, games\, and demonstrations!
URL:https://www.marionswcd.net/event/public-works-day-3/
LOCATION:Keizer Rapids Park\, 1900 Chemawa Rd N\, Keizer\, OR\, 97303\, United States
ATTACH;FMTTYPE=image/webp:https://www.marionswcd.net/wp-content/uploads/2026/03/COK-Logo.webp
END:VEVENT
BEGIN:VEVENT
DTSTART;TZID=America/Los_Angeles:20260509T090000
DTEND;TZID=America/Los_Angeles:20260509T113000
DTSTAMP:20260422T042722
CREATED:20260407T000429Z
LAST-MODIFIED:20260407T000731Z
UID:10002582-1778317200-1778326200@www.marionswcd.net
SUMMARY:Learn to Fish
DESCRIPTION:Learn to Fish is a free community event that brings together families\, environmental organizations\, local governments\, and other community partners to promote enjoyment and stewardship of the Willamette River! \nSix fishing skill stations will be set up to teach families the basic introductory skills needed to fish for trout and warm water species. Stations include: casting\, knot-tying & rigging\, water safety\, fish ID & anatomy\, stewardship\, and aquatic habitats. \nThe Learn to Fish event begins at 9:00am at Keizer Rapids Park in the grassy area east of the boat ramp parking lot and will end at 11:30am. Complete a passport for the opportunity to win a door prize! \n***Please note: we will not be fishing as this is a skill building event. Free Fishing Weekend takes place June 7 & 8 statewide. \nStations are provided thanks to great partners: Oregon Department of Fish and Wildlife (ODFW)\, Salem Chapter of the NW Steelheaders\, Keizer Police Department\, Marion County Sherriff Marine Patrol\, Oregon State Marine Board \nLearn to Fish is an Our River event sponsored by Mid-Willamette Outreach Group. The Our River campaign is designed to increase connections between people and the Willamette River to promote healthy waterways and communities.\nFollow the Learn to Fish event on Facebook!\nIf you need special accommodations\, including translation services\, in order to participate\, please contact Stacey with the City of Kiezer at PerryS@KeizerOR.gov  or 503-856-3526 as far in advance as possible.
URL:https://www.marionswcd.net/event/learn-to-fish-3/
LOCATION:Keizer Rapids Park\, 1900 Chemawa Rd N\, Keizer\, OR\, 97303\, United States
CATEGORIES:Our River
ATTACH;FMTTYPE=image/jpeg:https://www.marionswcd.net/wp-content/uploads/2023/01/Our-River-Learn-to-Fish.jpg
END:VEVENT
END:VCALENDAR