BEGIN:VCALENDAR
VERSION:2.0
PRODID:-//Marion SWCD - ECPv6.15.20//NONSGML v1.0//EN
CALSCALE:GREGORIAN
METHOD:PUBLISH
X-ORIGINAL-URL:https://www.marionswcd.net
X-WR-CALDESC:Events for Marion SWCD
REFRESH-INTERVAL;VALUE=DURATION:PT1H
X-Robots-Tag:noindex
X-PUBLISHED-TTL:PT1H
BEGIN:VTIMEZONE
TZID:America/Los_Angeles
BEGIN:DAYLIGHT
TZOFFSETFROM:-0800
TZOFFSETTO:-0700
TZNAME:PDT
DTSTART:20210314T100000
END:DAYLIGHT
BEGIN:STANDARD
TZOFFSETFROM:-0700
TZOFFSETTO:-0800
TZNAME:PST
DTSTART:20211107T090000
END:STANDARD
BEGIN:DAYLIGHT
TZOFFSETFROM:-0800
TZOFFSETTO:-0700
TZNAME:PDT
DTSTART:20220313T100000
END:DAYLIGHT
BEGIN:STANDARD
TZOFFSETFROM:-0700
TZOFFSETTO:-0800
TZNAME:PST
DTSTART:20221106T090000
END:STANDARD
BEGIN:DAYLIGHT
TZOFFSETFROM:-0800
TZOFFSETTO:-0700
TZNAME:PDT
DTSTART:20230312T100000
END:DAYLIGHT
BEGIN:STANDARD
TZOFFSETFROM:-0700
TZOFFSETTO:-0800
TZNAME:PST
DTSTART:20231105T090000
END:STANDARD
BEGIN:DAYLIGHT
TZOFFSETFROM:-0800
TZOFFSETTO:-0700
TZNAME:PDT
DTSTART:20240310T100000
END:DAYLIGHT
BEGIN:STANDARD
TZOFFSETFROM:-0700
TZOFFSETTO:-0800
TZNAME:PST
DTSTART:20241103T090000
END:STANDARD
BEGIN:DAYLIGHT
TZOFFSETFROM:-0800
TZOFFSETTO:-0700
TZNAME:PDT
DTSTART:20250309T100000
END:DAYLIGHT
BEGIN:STANDARD
TZOFFSETFROM:-0700
TZOFFSETTO:-0800
TZNAME:PST
DTSTART:20251102T090000
END:STANDARD
BEGIN:DAYLIGHT
TZOFFSETFROM:-0800
TZOFFSETTO:-0700
TZNAME:PDT
DTSTART:20260308T100000
END:DAYLIGHT
BEGIN:STANDARD
TZOFFSETFROM:-0700
TZOFFSETTO:-0800
TZNAME:PST
DTSTART:20261101T090000
END:STANDARD
END:VTIMEZONE
BEGIN:VEVENT
DTSTART;TZID=America/Los_Angeles:20251213T100000
DTEND;TZID=America/Los_Angeles:20251213T160000
DTSTAMP:20260422T162221
CREATED:20251117T224944Z
LAST-MODIFIED:20251117T232355Z
UID:10002513-1765620000-1765641600@www.marionswcd.net
SUMMARY:Winter Festival at Silver Falls
DESCRIPTION:Please join Marion Soil and Water Conservation District at Silver Falls Winter Festival courtesy of Oregon State Parks. \nJoin park staff\, volunteers and partners in a celebration of the winter season at Silver Falls on December 13th and 14th from 10:00am – 4:00pm. The festival will highlight the seasonal changes that can be seen in the winter. Visit the Marion SWCD booth to propagate and take home your own plant. \nMore information and a schedule of activities to come. Day-use parking passes are required – daily and annual passes available.
URL:https://www.marionswcd.net/event/winter-festival-at-silver-falls/2025-12-13/
LOCATION:Silver Falls State Park
CATEGORIES:Outreach
ATTACH;FMTTYPE=image/png:https://www.marionswcd.net/wp-content/uploads/2025/11/Silver-Falls-Winter-Festival-2025.png
END:VEVENT
BEGIN:VEVENT
DTSTART;TZID=America/Los_Angeles:20251214T100000
DTEND;TZID=America/Los_Angeles:20251214T160000
DTSTAMP:20260422T162221
CREATED:20251117T224944Z
LAST-MODIFIED:20251117T232355Z
UID:10002514-1765706400-1765728000@www.marionswcd.net
SUMMARY:Winter Festival at Silver Falls
DESCRIPTION:Please join Marion Soil and Water Conservation District at Silver Falls Winter Festival courtesy of Oregon State Parks. \nJoin park staff\, volunteers and partners in a celebration of the winter season at Silver Falls on December 13th and 14th from 10:00am – 4:00pm. The festival will highlight the seasonal changes that can be seen in the winter. Visit the Marion SWCD booth to propagate and take home your own plant. \nMore information and a schedule of activities to come. Day-use parking passes are required – daily and annual passes available.
URL:https://www.marionswcd.net/event/winter-festival-at-silver-falls/2025-12-14/
LOCATION:Silver Falls State Park
CATEGORIES:Outreach
ATTACH;FMTTYPE=image/png:https://www.marionswcd.net/wp-content/uploads/2025/11/Silver-Falls-Winter-Festival-2025.png
END:VEVENT
BEGIN:VEVENT
DTSTART;TZID=America/Los_Angeles:20241214T130000
DTEND;TZID=America/Los_Angeles:20241214T150000
DTSTAMP:20260422T162221
CREATED:20241115T164521Z
LAST-MODIFIED:20241126T172213Z
UID:10001604-1734181200-1734188400@www.marionswcd.net
SUMMARY:Native Plant Propagation Class 1 pm
DESCRIPTION:Join us for a hands-on workshop on propagating woody native plants! \n \nThis event will take place at the Silver Falls State Park Winter Festival. \nWe will focus on species like: \n\nred-flowering currant\ntwinberry\nninebark\nred-osier dogwood\nand more!\n\nYou’ll have the opportunity to propagate plants to take home and help support onsite restoration projects at Silver Falls State Park. Event partners: \n\nJen Gorski\, instructor\nOregon Parks and Recreation Department\n\nThis workshop is being offered twice; first at 10 am to 12 pm and again at 1 pm to 3 pm on December 15. \nSpace is limited and RSVP is required. Reserve your spot today!
URL:https://www.marionswcd.net/event/native-plant-propagation-class-2/
LOCATION:Silver Falls State Park
CATEGORIES:Conservation Club
ATTACH;FMTTYPE=image/png:https://www.marionswcd.net/wp-content/uploads/2024/11/Copy-of-CC-Graphic-June-18-riparian-1.png
END:VEVENT
BEGIN:VEVENT
DTSTART;TZID=America/Los_Angeles:20241214T100000
DTEND;TZID=America/Los_Angeles:20241214T120000
DTSTAMP:20260422T162221
CREATED:20241115T164246Z
LAST-MODIFIED:20241202T194017Z
UID:10001603-1734170400-1734177600@www.marionswcd.net
SUMMARY:Native Plant Propagation Class 10 am
DESCRIPTION:Join us for a hands-on workshop on propagating woody native plants! \n \nWe will focus on species like: \n\nred-flowering currant\ntwinberry\nninebark\nred-osier dogwood\nand more!\n\nYou’ll have the opportunity to propagate plants to take home and help support onsite restoration projects at Silver Falls State Park. Event partners: \n\nJen Gorski\, instructor\nOregon Parks and Recreation Department\n\nThis workshop is being offered twice; first at 10 am to 12 pm and again at 1 pm to 3 pm on December 15. \nSpace is limited and RSVP is required. Reserve your spot today!
URL:https://www.marionswcd.net/event/native-plant-propagation-class/
LOCATION:Silver Falls State Park
CATEGORIES:Conservation Club
ATTACH;FMTTYPE=image/png:https://www.marionswcd.net/wp-content/uploads/2024/11/Copy-of-CC-Graphic-June-18-riparian-1.png
END:VEVENT
BEGIN:VEVENT
DTSTART;TZID=America/Los_Angeles:20230514T100000
DTEND;TZID=America/Los_Angeles:20230515T160000
DTSTAMP:20260422T162221
CREATED:20230407T184613Z
LAST-MODIFIED:20230421T212544Z
UID:10001382-1684058400-1684166400@www.marionswcd.net
SUMMARY:Birding and Wildflower Festival
DESCRIPTION:Celebrate Spring with Birds and Wildflowers at Silver Falls! Take part in free activities to discover the natural beauty of spring at Silver Falls. \nActivities include: \n\nGuided birding and plant walks\nWildflower show\nNature-themed presentations and discover tables\nNative plant sale\nLive raptor presentations\nMarion SWCD will be present on May 14 from 11am-2pm.\n\nA detailed event schedule can be found here. \nAll events are free\, but a $5 daily parking permit is required at Silver Falls State Park.
URL:https://www.marionswcd.net/event/birding-and-wildflower-festival/
LOCATION:Silver Falls State Park
CATEGORIES:Outreach
ATTACH;FMTTYPE=image/jpeg:https://www.marionswcd.net/wp-content/uploads/2023/04/2023-Birding-and-Wildflower-graphic.jpg
END:VEVENT
BEGIN:VEVENT
DTSTART;VALUE=DATE:20220507
DTEND;VALUE=DATE:20220508
DTSTAMP:20260422T162221
CREATED:20220318T172611Z
LAST-MODIFIED:20220405T211948Z
UID:10000779-1651881600-1651967999@www.marionswcd.net
SUMMARY:Mother’s Day Birding & Wildflower Festival
DESCRIPTION:Mother’s Day Birding & Wildflower Festival at Silver Falls Sate Park. Marion SWCD will be at Silver Falls with information about native and invasive plants. Stop by and visit us\, then step over to shop at the Friends of Silver Falls native plant sale\, and visit some of the many other fun stations provided for your learning pleasure. \n  \n  \n 
URL:https://www.marionswcd.net/event/mothers-day-birding-wildflower-festival/
LOCATION:Silver Falls State Park
CATEGORIES:Outreach
END:VEVENT
BEGIN:VEVENT
DTSTART;VALUE=DATE:20220507
DTEND;VALUE=DATE:20220508
DTSTAMP:20260422T162221
CREATED:20220318T172611Z
LAST-MODIFIED:20220318T172611Z
UID:10000864-1651881600-1651967999@www.marionswcd.net
SUMMARY:Mother’s Day Birding & Wildflower Festival
DESCRIPTION:Mother’s Day Birding & Wildflower Festival at Silver Falls Sate Park. Marion SWCD will be at Silver Falls with information about native and invasive plants. Stop by and visit us\, then step over to shop at the Friends of Silver Falls native plant sale\, and visit some of the many other fun stations provided for your learning pleasure. \n  \n  \n 
URL:https://www.marionswcd.net/event/mothers-day-birding-wildflower-festival-2/
LOCATION:Silver Falls State Park
CATEGORIES:Outreach
END:VEVENT
END:VCALENDAR