BEGIN:VCALENDAR
VERSION:2.0
PRODID:-//Marion SWCD - ECPv6.15.20//NONSGML v1.0//EN
CALSCALE:GREGORIAN
METHOD:PUBLISH
X-WR-CALNAME:Marion SWCD
X-ORIGINAL-URL:https://www.marionswcd.net
X-WR-CALDESC:Events for Marion SWCD
REFRESH-INTERVAL;VALUE=DURATION:PT1H
X-Robots-Tag:noindex
X-PUBLISHED-TTL:PT1H
BEGIN:VTIMEZONE
TZID:America/Los_Angeles
BEGIN:DAYLIGHT
TZOFFSETFROM:-0800
TZOFFSETTO:-0700
TZNAME:PDT
DTSTART:20230312T100000
END:DAYLIGHT
BEGIN:STANDARD
TZOFFSETFROM:-0700
TZOFFSETTO:-0800
TZNAME:PST
DTSTART:20231105T090000
END:STANDARD
BEGIN:DAYLIGHT
TZOFFSETFROM:-0800
TZOFFSETTO:-0700
TZNAME:PDT
DTSTART:20240310T100000
END:DAYLIGHT
BEGIN:STANDARD
TZOFFSETFROM:-0700
TZOFFSETTO:-0800
TZNAME:PST
DTSTART:20241103T090000
END:STANDARD
BEGIN:DAYLIGHT
TZOFFSETFROM:-0800
TZOFFSETTO:-0700
TZNAME:PDT
DTSTART:20250309T100000
END:DAYLIGHT
BEGIN:STANDARD
TZOFFSETFROM:-0700
TZOFFSETTO:-0800
TZNAME:PST
DTSTART:20251102T090000
END:STANDARD
BEGIN:DAYLIGHT
TZOFFSETFROM:-0800
TZOFFSETTO:-0700
TZNAME:PDT
DTSTART:20260308T100000
END:DAYLIGHT
BEGIN:STANDARD
TZOFFSETFROM:-0700
TZOFFSETTO:-0800
TZNAME:PST
DTSTART:20261101T090000
END:STANDARD
END:VTIMEZONE
BEGIN:VEVENT
DTSTART;TZID=America/Los_Angeles:20251112T173000
DTEND;TZID=America/Los_Angeles:20251112T193000
DTSTAMP:20260423T040158
CREATED:20250929T171004Z
LAST-MODIFIED:20251030T154750Z
UID:10002097-1762968600-1762975800@www.marionswcd.net
SUMMARY:Annual Conservation Celebration
DESCRIPTION:RSVP by November 4th!\nPlease join us\, the Marion Soil and Water Conservation District\, as we come together to look back and celebrate the past year of conservation while looking forward to the year ahead. This evening provides an opportunity to connect with our local conservation minded community while exploring how we as a District and as individuals are Rooted in Results\, Growing for Tomorrow as we strive to ‘partner with people in support of thriving lands\, clean water\, and healthy habitats’. \nThe evening will offer the chance to reflect on the roots we have planted and the growth we hope to see as we connect with one another to celebrate our environment\, our community\, and the collective impact we have when we work together. \n\n Wednesday\, November 12th\n 5:30 – 7:30; Doors open at 5:30pm\, Meeting at 6:00-7:00pm\nLocation: The Dye House at the Willamette Heritage Center\, 1313 Mill St SE\, Salem\n Free to attend\, hors d’oeuvres and non-alcoholic beverages provided\n\nPlease register using the RSVP form above. We look forward to seeing you there! \nMarion SWCD is an EEO employer and provider.  Persons with disabilities who require alternative means for communication of program information (Braille\, large print\, audiotape\, etc.) should contact office@marionswcd.net or call 503-391-9927.
URL:https://www.marionswcd.net/event/2025_celebration/
LOCATION:Willamette Heritage Center\, 1313 Mill St. SE\, Salem\, OR\, United States
CATEGORIES:Outreach
ATTACH;FMTTYPE=image/jpeg:https://www.marionswcd.net/wp-content/uploads/2025/09/2025-ACC-e1759249738203.jpg
END:VEVENT
BEGIN:VEVENT
DTSTART;TZID=America/Los_Angeles:20240207T193000
DTEND;TZID=America/Los_Angeles:20240207T210000
DTSTAMP:20260423T040158
CREATED:20231222T171113Z
LAST-MODIFIED:20240126T213824Z
UID:10001460-1707334200-1707339600@www.marionswcd.net
SUMMARY:Board of Directors Monthly Meeting
DESCRIPTION:00 02 07 24 Agenda DRAFT \nJoin Zoom Meeting \n\nCall In Number: 1-253-215-8782\nMeeting ID: 874 6341 2659\nPasscode: 078419\n\nHB2560 requires that all Oregon public meetings held by a governing body of a public body\, excluding executive sessions\, must provide to members of the public an opportunity to access and attend the meeting by telephone\, video or other electronic or virtual means. \nThis meeting will be held in-person at the Willamette Heritage Center-Dye House\, 1313 Mill Street SE\, Salem\, OR\, by video conference\, and by telephone. Please inform the MSWCD if you would like to attend in-person (as space is limited)\, contact by phone\, 503-391-9927 or e-mail at least 24 hours in advance for assistance. \nMarion SWCD prohibits discrimination in all its programs and activities on the basis of race\, color\, status\, religion\, sexual orientation\, genetic information\, political beliefs\, reprisal\, or because all or a part of an individual’s incom Willamette Heritage Center-Dye House\, 1313 Mill Street SE\, Salem\, ORe is derived from any public assistance program.  Persons with disabilities who require alternative means for communication of program information (Braille\, large print\, audiotape\, etc.) should contact the District Manager at 503-391-9927 as soon as possible\, and at least 48 hours in\nadvance of the meeting.
URL:https://www.marionswcd.net/event/board-of-directors-monthly-meeting-2/
LOCATION:Willamette Heritage Center\, 1313 Mill St. SE\, Salem\, OR\, United States
CATEGORIES:Board Meetings
ATTACH;FMTTYPE=image/png:https://www.marionswcd.net/wp-content/uploads/2022/06/Board-Meeting-graphic.png
END:VEVENT
BEGIN:VEVENT
DTSTART;TZID=America/Los_Angeles:20240207T173000
DTEND;TZID=America/Los_Angeles:20240207T193000
DTSTAMP:20260423T040158
CREATED:20231201T211136Z
LAST-MODIFIED:20240206T212732Z
UID:10001450-1707327000-1707334200@www.marionswcd.net
SUMMARY:Annual Meeting
DESCRIPTION:The Board and staff of Marion SWCD want to thank you\, our conservation community\, for the efforts you take to care for the earth. We will provide a hearty array of hors d’oeuvres and beverages\, recognition gifts for everyone\, and a panel discussion featuring members of the conservation community who\, like you\, fill some of the roles we’ve outlined in the Conservation Community Field Guide. \nPanelists\n\nJulia Finley\, Soil and Environmental Specialist with Highway Fuel Co.\nLindsay McClary\, Restoration Ecologist/Fish & Wildlife Policy Analyst for the Confederated Tribes of Grand Ronde’s Natural Resources Department\nDavid Craig\, Biology Professor at Willamette University\n\nThank you for your interest in attending our annual meeting! We have reached capacity for the in-person portion of this event. You are still welcome to attend virtually. The join info is: \n\nZoom: https://us06web.zoom.us/j/87463412659?pwd=tF7QqYJsLFWyJ8NN4X4DRprDiAdJKJ.1\nMeeting ID: 874 6341 2659\nPasscode: 078419\nCall in at 1-253-215-8782\n\n  \n 
URL:https://www.marionswcd.net/event/annual-meeting-22-23/
LOCATION:Willamette Heritage Center\, 1313 Mill St. SE\, Salem\, OR\, United States
CATEGORIES:Board Meetings
END:VEVENT
END:VCALENDAR